BEGIN:VCALENDAR
VERSION:2.0
PRODID:-//Horizon Normandie, la radio qui vous ressemble - ECPv6.15.20//NONSGML v1.0//EN
CALSCALE:GREGORIAN
METHOD:PUBLISH
X-WR-CALNAME:Horizon Normandie, la radio qui vous ressemble
X-ORIGINAL-URL:https://www.horizon-fm.fr
X-WR-CALDESC:Évènements pour Horizon Normandie, la radio qui vous ressemble
REFRESH-INTERVAL;VALUE=DURATION:PT1H
X-Robots-Tag:noindex
X-PUBLISHED-TTL:PT1H
BEGIN:VTIMEZONE
TZID:Europe/Paris
BEGIN:DAYLIGHT
TZOFFSETFROM:+0100
TZOFFSETTO:+0200
TZNAME:CEST
DTSTART:20250330T010000
END:DAYLIGHT
BEGIN:STANDARD
TZOFFSETFROM:+0200
TZOFFSETTO:+0100
TZNAME:CET
DTSTART:20251026T010000
END:STANDARD
BEGIN:DAYLIGHT
TZOFFSETFROM:+0100
TZOFFSETTO:+0200
TZNAME:CEST
DTSTART:20260329T010000
END:DAYLIGHT
BEGIN:STANDARD
TZOFFSETFROM:+0200
TZOFFSETTO:+0100
TZNAME:CET
DTSTART:20261025T010000
END:STANDARD
BEGIN:DAYLIGHT
TZOFFSETFROM:+0100
TZOFFSETTO:+0200
TZNAME:CEST
DTSTART:20270328T010000
END:DAYLIGHT
BEGIN:STANDARD
TZOFFSETFROM:+0200
TZOFFSETTO:+0100
TZNAME:CET
DTSTART:20271031T010000
END:STANDARD
END:VTIMEZONE
BEGIN:VEVENT
DTSTART;TZID=Europe/Paris:20260605T200000
DTEND;TZID=Europe/Paris:20260605T220000
DTSTAMP:20260425T161656
CREATED:20260416T151217Z
LAST-MODIFIED:20260416T151217Z
UID:23414-1780689600-1780696800@www.horizon-fm.fr
SUMMARY:Laurent Gerra
DESCRIPTION:Vendredi 05 juin 2026 à 20h00 au Zénith de Rouen. Places à gagner en écoutant Horizon \nQuand Laurent Gerra passe à table\, on sait d’avance que ce sera mitonné. \nCertains ne manqueront pas d’être bien assaisonnés\, quand d’autres seront servis aux petits oignons… \nNouvelle carte et plats signatures\, il y en aura pour tous les goûts : politiques\, chanson\, télévision et cinéma\, toutes ses cibles passeront à la casserole\, même les vegans ! ça risque d’être saignant ! \n\nL’actualité servie bien chaude\, revisitée à la sauce GERRA\, on en salive déjà !
URL:https://www.horizon-fm.fr/event/laurent-gerra/
LOCATION:Zénith de Rouen\, 44 Avenue des Canadiens\, Le Grand-Quevilly\, 76120\, France
ATTACH;FMTTYPE=image/png:https://www.horizon-fm.fr/wp-content/uploads/2026/04/laurentgerra.png
END:VEVENT
END:VCALENDAR