BEGIN:VCALENDAR
VERSION:2.0
PRODID:-//Horizon Normandie, la radio qui vous ressemble - ECPv6.15.20//NONSGML v1.0//EN
CALSCALE:GREGORIAN
METHOD:PUBLISH
X-WR-CALNAME:Horizon Normandie, la radio qui vous ressemble
X-ORIGINAL-URL:https://www.horizon-fm.fr
X-WR-CALDESC:Évènements pour Horizon Normandie, la radio qui vous ressemble
REFRESH-INTERVAL;VALUE=DURATION:PT1H
X-Robots-Tag:noindex
X-PUBLISHED-TTL:PT1H
BEGIN:VTIMEZONE
TZID:Europe/Paris
BEGIN:DAYLIGHT
TZOFFSETFROM:+0100
TZOFFSETTO:+0200
TZNAME:CEST
DTSTART:20250330T010000
END:DAYLIGHT
BEGIN:STANDARD
TZOFFSETFROM:+0200
TZOFFSETTO:+0100
TZNAME:CET
DTSTART:20251026T010000
END:STANDARD
BEGIN:DAYLIGHT
TZOFFSETFROM:+0100
TZOFFSETTO:+0200
TZNAME:CEST
DTSTART:20260329T010000
END:DAYLIGHT
BEGIN:STANDARD
TZOFFSETFROM:+0200
TZOFFSETTO:+0100
TZNAME:CET
DTSTART:20261025T010000
END:STANDARD
BEGIN:DAYLIGHT
TZOFFSETFROM:+0100
TZOFFSETTO:+0200
TZNAME:CEST
DTSTART:20270328T010000
END:DAYLIGHT
BEGIN:STANDARD
TZOFFSETFROM:+0200
TZOFFSETTO:+0100
TZNAME:CET
DTSTART:20271031T010000
END:STANDARD
END:VTIMEZONE
BEGIN:VEVENT
DTSTART;VALUE=DATE:20260510
DTEND;VALUE=DATE:20260511
DTSTAMP:20260423T164047
CREATED:20260421T115704Z
LAST-MODIFIED:20260421T115756Z
UID:23418-1778371200-1778457599@www.horizon-fm.fr
SUMMARY:Bouville ça roule
DESCRIPTION:Dimanche 10 mai 2026 à Bouvillle\, en partenariat avec Horizon \nAu programme : \nExposition de véhicules anciens (autos\, motos\, tracteurs\, vélos…)\nMarché artisanal et fermier\nParade en ville\nRestauration sur place \nUn vrai voyage dans le temps… avec un soupçon d’huile moteur et beaucoup de passion \nVous avez un véhicule ancien qui mérite d’être admiré ?\nBonne nouvelle : un bulletin d’inscription est disponible pour les exposants !
URL:https://www.horizon-fm.fr/event/bouville-ca-roule/
ATTACH;FMTTYPE=image/jpeg:https://www.horizon-fm.fr/wp-content/uploads/2025/04/BouvillecaRoule0525.jpg
END:VEVENT
END:VCALENDAR